BEGIN:VCALENDAR
VERSION:2.0
PRODID:-//Piping Industry - ECPv6.15.20//NONSGML v1.0//EN
CALSCALE:GREGORIAN
METHOD:PUBLISH
X-ORIGINAL-URL:https://www.pipingindustry.com
X-WR-CALDESC:Events for Piping Industry
REFRESH-INTERVAL;VALUE=DURATION:PT1H
X-Robots-Tag:noindex
X-PUBLISHED-TTL:PT1H
BEGIN:VTIMEZONE
TZID:America/Detroit
BEGIN:DAYLIGHT
TZOFFSETFROM:-0500
TZOFFSETTO:-0400
TZNAME:EDT
DTSTART:20250309T070000
END:DAYLIGHT
BEGIN:STANDARD
TZOFFSETFROM:-0400
TZOFFSETTO:-0500
TZNAME:EST
DTSTART:20251102T060000
END:STANDARD
BEGIN:DAYLIGHT
TZOFFSETFROM:-0500
TZOFFSETTO:-0400
TZNAME:EDT
DTSTART:20260308T070000
END:DAYLIGHT
BEGIN:STANDARD
TZOFFSETFROM:-0400
TZOFFSETTO:-0500
TZNAME:EST
DTSTART:20261101T060000
END:STANDARD
BEGIN:DAYLIGHT
TZOFFSETFROM:-0500
TZOFFSETTO:-0400
TZNAME:EDT
DTSTART:20270314T070000
END:DAYLIGHT
BEGIN:STANDARD
TZOFFSETFROM:-0400
TZOFFSETTO:-0500
TZNAME:EST
DTSTART:20271107T060000
END:STANDARD
END:VTIMEZONE
BEGIN:VEVENT
DTSTART;TZID=America/Detroit:20260430T180000
DTEND;TZID=America/Detroit:20260507T210000
DTSTAMP:20260423T064911
CREATED:20260406T193841Z
LAST-MODIFIED:20260421T201057Z
UID:5276-1777572000-1778187600@www.pipingindustry.com
SUMMARY:Medical Gas Recertification
DESCRIPTION:[vc_row][vc_column][vc_column_text css=””] \nMed Gas Recertification $150  \nRecertification can be accomplished by (1) completing a minimum 4-hour training course to subsequent editions of NFPA 99\, and (2) successfully passing a proctored multiple-choice open book examination. Both the course and the examination are required according to ASSE 6000\, sections 10-3.3.1 and 10-3.3.2. The recertification examination contains forty questions based on the most current edition of NFPA 99. Candidates must answer a minimum of thirty-two (32) of the questions (80%) correctly on the examination to achieve a passing grade. Two (2) hours are allowed for the examination.[/vc_column_text][/vc_column][/vc_row][vc_row][vc_column][vc_btn title=”PAYMENT” color=”green” size=”lg” align=”center” css=”” button_block=”true” custom_onclick=”true” link=”url:https%3A%2F%2Fswipesimple.com%2Flinks%2Flnk_e0d80a5500d7048340adc46ea325360e|title:https%3A%2F%2Fswipesimple.com%2Flinks%2Flnk_e0d80a5500d7048340adc46ea325360e|target:_blank”][/vc_column][/vc_row][vc_row][vc_column][vc_message message_box_color=”grey” icon_type=”pixelicons” css=””]Space is limited. Reservations will be secured by payment in full. Reservations will close the Wednesday prior to the start date. Click “PAYMENT” to secure your spot.[/vc_message][/vc_column][/vc_row]
URL:https://www.pipingindustry.com/event/5276/
LOCATION:Piping Industry Training Center\, 7560 Caple Blvd.\, Northwood\, OH\, 43619\, United States
CATEGORIES:Recertification
ATTACH;FMTTYPE=image/jpeg:https://www.pipingindustry.com/wp-content/uploads/2026/04/med-gas.jpg
END:VEVENT
END:VCALENDAR